BEGIN:VCALENDAR
VERSION:2.0
PRODID:-//QualityColombia S.A. - ECPv6.5.1.5//NONSGML v1.0//EN
CALSCALE:GREGORIAN
METHOD:PUBLISH
X-WR-CALNAME:QualityColombia S.A.
X-ORIGINAL-URL:https://qualitycolombia.com
X-WR-CALDESC:Eventos para QualityColombia S.A.
REFRESH-INTERVAL;VALUE=DURATION:PT1H
X-Robots-Tag:noindex
X-PUBLISHED-TTL:PT1H
BEGIN:VTIMEZONE
TZID:Asia/Karachi
BEGIN:STANDARD
TZOFFSETFROM:+0500
TZOFFSETTO:+0500
TZNAME:PKT
DTSTART:20230101T000000
END:STANDARD
END:VTIMEZONE
BEGIN:VEVENT
DTSTART;TZID=Asia/Karachi:20230126T140000
DTEND;TZID=Asia/Karachi:20230126T170000
DTSTAMP:20260423T100938
CREATED:20221223T194626Z
LAST-MODIFIED:20221223T194626Z
UID:7726-1674741600-1674752400@qualitycolombia.com
SUMMARY:Actualización tributaria 2023
DESCRIPTION:Webinar Recepción Electrónica QCWebinar Recepción Electrónica QC
URL:https://qualitycolombia.com/eventos/actualizacion-tributaria-2023/
ATTACH;FMTTYPE=image/png:https://qualitycolombia.com/wp-content/uploads/2022/12/volante-webinar-y-fin-de-anos-andres-gonzalez-evento-web.png
END:VEVENT
END:VCALENDAR