BEGIN:VCALENDAR
VERSION:2.0
PRODID:-//QualityColombia S.A. - ECPv6.5.1.5//NONSGML v1.0//EN
CALSCALE:GREGORIAN
METHOD:PUBLISH
X-WR-CALNAME:QualityColombia S.A.
X-ORIGINAL-URL:https://qualitycolombia.com
X-WR-CALDESC:Eventos para QualityColombia S.A.
REFRESH-INTERVAL;VALUE=DURATION:PT1H
X-Robots-Tag:noindex
X-PUBLISHED-TTL:PT1H
BEGIN:VTIMEZONE
TZID:Asia/Karachi
BEGIN:STANDARD
TZOFFSETFROM:+0500
TZOFFSETTO:+0500
TZNAME:PKT
DTSTART:20230101T000000
END:STANDARD
END:VTIMEZONE
BEGIN:VEVENT
DTSTART;TZID=Asia/Karachi:20230316T140000
DTEND;TZID=Asia/Karachi:20230316T170000
DTSTAMP:20260423T083956
CREATED:20230310T224451Z
LAST-MODIFIED:20230310T224708Z
UID:7912-1678975200-1678986000@qualitycolombia.com
SUMMARY:Conferencia gratuita mes del Contador
DESCRIPTION:QualityColombia S.A.\nTe invita a nuestro próximo webinar\nGRATUITO en el mes del CONTADOR.\nTe invitamos a unirte al seminario web GRATUITO.\nCuándo: 16 de MARZO 2023 Hora: 02:00 P. m.\n\nTemario:\n* Monto máximo a facturar SISTEMAS P.O.S. – Resolución 1092 de 2022.\n* Registro Único de Beneficiarios Finales – RUB Generalidades – Normativa – Herramientas.\n\n Prográmate con QualityColombia S.A.\n¡TE ESPERAMOS!
URL:https://qualitycolombia.com/eventos/7912/
ATTACH;FMTTYPE=image/jpeg:https://qualitycolombia.com/wp-content/uploads/2023/03/WhatsApp-Image-2023-02-22-at-7.26.27-PM.jpeg
END:VEVENT
END:VCALENDAR